BEGIN:VCALENDAR
VERSION:2.0
PRODID:-//St. Ludgerus Norderney - ECPv6.15.20//NONSGML v1.0//EN
CALSCALE:GREGORIAN
METHOD:PUBLISH
X-ORIGINAL-URL:https://ludgerus-norderney.de
X-WR-CALDESC:Veranstaltungen für St. Ludgerus Norderney
REFRESH-INTERVAL;VALUE=DURATION:PT1H
X-Robots-Tag:noindex
X-PUBLISHED-TTL:PT1H
BEGIN:VTIMEZONE
TZID:Europe/Berlin
BEGIN:DAYLIGHT
TZOFFSETFROM:+0100
TZOFFSETTO:+0200
TZNAME:CEST
DTSTART:20230326T010000
END:DAYLIGHT
BEGIN:STANDARD
TZOFFSETFROM:+0200
TZOFFSETTO:+0100
TZNAME:CET
DTSTART:20231029T010000
END:STANDARD
BEGIN:DAYLIGHT
TZOFFSETFROM:+0100
TZOFFSETTO:+0200
TZNAME:CEST
DTSTART:20240331T010000
END:DAYLIGHT
BEGIN:STANDARD
TZOFFSETFROM:+0200
TZOFFSETTO:+0100
TZNAME:CET
DTSTART:20241027T010000
END:STANDARD
BEGIN:DAYLIGHT
TZOFFSETFROM:+0100
TZOFFSETTO:+0200
TZNAME:CEST
DTSTART:20250330T010000
END:DAYLIGHT
BEGIN:STANDARD
TZOFFSETFROM:+0200
TZOFFSETTO:+0100
TZNAME:CET
DTSTART:20251026T010000
END:STANDARD
END:VTIMEZONE
BEGIN:VEVENT
DTSTART;TZID=Europe/Berlin:20240713T080000
DTEND;TZID=Europe/Berlin:20240713T170000
DTSTAMP:20260419T141120
CREATED:20240713T072555Z
LAST-MODIFIED:20240713T072555Z
UID:1655-1720857600-1720890000@ludgerus-norderney.de
SUMMARY:Zeit zum Gespräch im Strandkorb
DESCRIPTION:Mit Pater Nikolaus Nonn.
URL:https://ludgerus-norderney.de/event/zeit-zum-gespraech-im-strandkorb-5/
END:VEVENT
BEGIN:VEVENT
DTSTART;TZID=Europe/Berlin:20240713T170000
DTEND;TZID=Europe/Berlin:20240713T180000
DTSTAMP:20260419T141120
CREATED:20240713T070842Z
LAST-MODIFIED:20240713T070842Z
UID:1625-1720890000-1720893600@ludgerus-norderney.de
SUMMARY:Zeit zum Gespräch im Strandkorb
DESCRIPTION:Mit Pfr. Klemens Schneider\nBei schlechtem Wetter in der Kirche.
URL:https://ludgerus-norderney.de/event/zeit-zum-gespraech-im-strandkorb-3/
LOCATION:Kirchenstrandkörbe vor St. Ludgerus\, Friedrichstraße (Am Denkmal)
END:VEVENT
BEGIN:VEVENT
DTSTART;TZID=Europe/Berlin:20240713T183000
DTEND;TZID=Europe/Berlin:20240713T193000
DTSTAMP:20260419T141120
CREATED:20240713T070931Z
LAST-MODIFIED:20240713T070931Z
UID:1627-1720895400-1720899000@ludgerus-norderney.de
SUMMARY:Gottesdienst
DESCRIPTION:Messfeier
URL:https://ludgerus-norderney.de/event/gottesdienst-11/
END:VEVENT
END:VCALENDAR