BEGIN:VCALENDAR
VERSION:2.0
PRODID:-//St. Ludgerus Norderney - ECPv6.15.20//NONSGML v1.0//EN
CALSCALE:GREGORIAN
METHOD:PUBLISH
X-ORIGINAL-URL:https://ludgerus-norderney.de
X-WR-CALDESC:Veranstaltungen für St. Ludgerus Norderney
REFRESH-INTERVAL;VALUE=DURATION:PT1H
X-Robots-Tag:noindex
X-PUBLISHED-TTL:PT1H
BEGIN:VTIMEZONE
TZID:Europe/Berlin
BEGIN:DAYLIGHT
TZOFFSETFROM:+0100
TZOFFSETTO:+0200
TZNAME:CEST
DTSTART:20230326T010000
END:DAYLIGHT
BEGIN:STANDARD
TZOFFSETFROM:+0200
TZOFFSETTO:+0100
TZNAME:CET
DTSTART:20231029T010000
END:STANDARD
BEGIN:DAYLIGHT
TZOFFSETFROM:+0100
TZOFFSETTO:+0200
TZNAME:CEST
DTSTART:20240331T010000
END:DAYLIGHT
BEGIN:STANDARD
TZOFFSETFROM:+0200
TZOFFSETTO:+0100
TZNAME:CET
DTSTART:20241027T010000
END:STANDARD
BEGIN:DAYLIGHT
TZOFFSETFROM:+0100
TZOFFSETTO:+0200
TZNAME:CEST
DTSTART:20250330T010000
END:DAYLIGHT
BEGIN:STANDARD
TZOFFSETFROM:+0200
TZOFFSETTO:+0100
TZNAME:CET
DTSTART:20251026T010000
END:STANDARD
END:VTIMEZONE
BEGIN:VEVENT
DTSTART;TZID=Europe/Berlin:20240711T183000
DTEND;TZID=Europe/Berlin:20240711T193000
DTSTAMP:20260419T141028
CREATED:20240625T084839Z
LAST-MODIFIED:20240625T084839Z
UID:1616-1720722600-1720726200@ludgerus-norderney.de
SUMMARY:Gottesdienst
DESCRIPTION:Messfeier
URL:https://ludgerus-norderney.de/event/gottesdienst-10/
END:VEVENT
BEGIN:VEVENT
DTSTART;TZID=Europe/Berlin:20240711T193000
DTEND;TZID=Europe/Berlin:20240711T210000
DTSTAMP:20260419T141028
CREATED:20240625T084936Z
LAST-MODIFIED:20240625T084936Z
UID:1618-1720726200-1720731600@ludgerus-norderney.de
SUMMARY:Meditativer Abendspaziergang
DESCRIPTION:Gemeinsam unterwges mit der ev. und kath. Urlaubsseelsorge
URL:https://ludgerus-norderney.de/event/meditativer-abendspaziergang/
END:VEVENT
END:VCALENDAR