BEGIN:VCALENDAR
VERSION:2.0
PRODID:-//St. Ludgerus Norderney - ECPv6.15.20//NONSGML v1.0//EN
CALSCALE:GREGORIAN
METHOD:PUBLISH
X-ORIGINAL-URL:https://ludgerus-norderney.de
X-WR-CALDESC:Veranstaltungen für St. Ludgerus Norderney
REFRESH-INTERVAL;VALUE=DURATION:PT1H
X-Robots-Tag:noindex
X-PUBLISHED-TTL:PT1H
BEGIN:VTIMEZONE
TZID:Europe/Berlin
BEGIN:DAYLIGHT
TZOFFSETFROM:+0100
TZOFFSETTO:+0200
TZNAME:CEST
DTSTART:20230326T010000
END:DAYLIGHT
BEGIN:STANDARD
TZOFFSETFROM:+0200
TZOFFSETTO:+0100
TZNAME:CET
DTSTART:20231029T010000
END:STANDARD
BEGIN:DAYLIGHT
TZOFFSETFROM:+0100
TZOFFSETTO:+0200
TZNAME:CEST
DTSTART:20240331T010000
END:DAYLIGHT
BEGIN:STANDARD
TZOFFSETFROM:+0200
TZOFFSETTO:+0100
TZNAME:CET
DTSTART:20241027T010000
END:STANDARD
BEGIN:DAYLIGHT
TZOFFSETFROM:+0100
TZOFFSETTO:+0200
TZNAME:CEST
DTSTART:20250330T010000
END:DAYLIGHT
BEGIN:STANDARD
TZOFFSETFROM:+0200
TZOFFSETTO:+0100
TZNAME:CET
DTSTART:20251026T010000
END:STANDARD
END:VTIMEZONE
BEGIN:VEVENT
DTSTART;TZID=Europe/Berlin:20240630T110000
DTEND;TZID=Europe/Berlin:20240630T120000
DTSTAMP:20260419T154518
CREATED:20240530T113121Z
LAST-MODIFIED:20240615T085638Z
UID:1517-1719745200-1719748800@ludgerus-norderney.de
SUMMARY:5. Ökumenischer Wattgottesdienst
DESCRIPTION:Ein Gottesdienst im Weltnaturerbe Wattenmeer mit der Ev.-luth. Kirchengemeinde\, der Kath. Kirchengemeinde St. Ludgerus und dem Nationalparkhaus „Wattwelten Norderney“. \n 
URL:https://ludgerus-norderney.de/event/oekumenischer-wattgottesdienst/
LOCATION:Surferbucht
END:VEVENT
END:VCALENDAR