BEGIN:VCALENDAR
VERSION:2.0
PRODID:-//St. Ludgerus Norderney - ECPv6.15.20//NONSGML v1.0//EN
CALSCALE:GREGORIAN
METHOD:PUBLISH
X-WR-CALNAME:St. Ludgerus Norderney
X-ORIGINAL-URL:https://ludgerus-norderney.de
X-WR-CALDESC:Veranstaltungen für St. Ludgerus Norderney
REFRESH-INTERVAL;VALUE=DURATION:PT1H
X-Robots-Tag:noindex
X-PUBLISHED-TTL:PT1H
BEGIN:VTIMEZONE
TZID:Europe/Berlin
BEGIN:DAYLIGHT
TZOFFSETFROM:+0100
TZOFFSETTO:+0200
TZNAME:CEST
DTSTART:20230326T010000
END:DAYLIGHT
BEGIN:STANDARD
TZOFFSETFROM:+0200
TZOFFSETTO:+0100
TZNAME:CET
DTSTART:20231029T010000
END:STANDARD
BEGIN:DAYLIGHT
TZOFFSETFROM:+0100
TZOFFSETTO:+0200
TZNAME:CEST
DTSTART:20240331T010000
END:DAYLIGHT
BEGIN:STANDARD
TZOFFSETFROM:+0200
TZOFFSETTO:+0100
TZNAME:CET
DTSTART:20241027T010000
END:STANDARD
BEGIN:DAYLIGHT
TZOFFSETFROM:+0100
TZOFFSETTO:+0200
TZNAME:CEST
DTSTART:20250330T010000
END:DAYLIGHT
BEGIN:STANDARD
TZOFFSETFROM:+0200
TZOFFSETTO:+0100
TZNAME:CET
DTSTART:20251026T010000
END:STANDARD
END:VTIMEZONE
BEGIN:VEVENT
DTSTART;TZID=Europe/Berlin:20240629T150000
DTEND;TZID=Europe/Berlin:20240629T160000
DTSTAMP:20260419T155918
CREATED:20240615T092328Z
LAST-MODIFIED:20240615T092328Z
UID:1581-1719673200-1719676800@ludgerus-norderney.de
SUMMARY:Trauung von Sandra Helcer und Kevin Horlitz
DESCRIPTION:Kirchliche Trauung
URL:https://ludgerus-norderney.de/event/trauung-von-sandra-helcer-und-kevin-horlitz/
END:VEVENT
BEGIN:VEVENT
DTSTART;TZID=Europe/Berlin:20240629T170000
DTEND;TZID=Europe/Berlin:20240629T180000
DTSTAMP:20260419T155918
CREATED:20240625T085339Z
LAST-MODIFIED:20240625T085339Z
UID:1622-1719680400-1719684000@ludgerus-norderney.de
SUMMARY:Zeit zum Gespräch im Strandkorb
DESCRIPTION:mit Diakon Markus Fuhrmann
URL:https://ludgerus-norderney.de/event/zeit-zum-gespraech-im-strandkorb-2/
LOCATION:Kirchenstrandkörbe vor St. Ludgerus\, Friedrichstraße (Am Denkmal)
END:VEVENT
BEGIN:VEVENT
DTSTART;TZID=Europe/Berlin:20240629T183000
DTEND;TZID=Europe/Berlin:20240629T193000
DTSTAMP:20260419T155918
CREATED:20240530T112652Z
LAST-MODIFIED:20240625T083436Z
UID:1515-1719685800-1719689400@ludgerus-norderney.de
SUMMARY:Gottesdienst
DESCRIPTION:Messfeier
URL:https://ludgerus-norderney.de/event/gottesdienst-7/
LOCATION:Pfarrkirche St. Ludgerus (Am Denkmal)\, Friedrichstraße (Am Denkmal)
END:VEVENT
END:VCALENDAR