BEGIN:VCALENDAR
VERSION:2.0
PRODID:-//St. Ludgerus Norderney - ECPv6.15.20//NONSGML v1.0//EN
CALSCALE:GREGORIAN
METHOD:PUBLISH
X-WR-CALNAME:St. Ludgerus Norderney
X-ORIGINAL-URL:https://ludgerus-norderney.de
X-WR-CALDESC:Veranstaltungen für St. Ludgerus Norderney
REFRESH-INTERVAL;VALUE=DURATION:PT1H
X-Robots-Tag:noindex
X-PUBLISHED-TTL:PT1H
BEGIN:VTIMEZONE
TZID:Europe/Berlin
BEGIN:DAYLIGHT
TZOFFSETFROM:+0100
TZOFFSETTO:+0200
TZNAME:CEST
DTSTART:20230326T010000
END:DAYLIGHT
BEGIN:STANDARD
TZOFFSETFROM:+0200
TZOFFSETTO:+0100
TZNAME:CET
DTSTART:20231029T010000
END:STANDARD
BEGIN:DAYLIGHT
TZOFFSETFROM:+0100
TZOFFSETTO:+0200
TZNAME:CEST
DTSTART:20240331T010000
END:DAYLIGHT
BEGIN:STANDARD
TZOFFSETFROM:+0200
TZOFFSETTO:+0100
TZNAME:CET
DTSTART:20241027T010000
END:STANDARD
BEGIN:DAYLIGHT
TZOFFSETFROM:+0100
TZOFFSETTO:+0200
TZNAME:CEST
DTSTART:20250330T010000
END:DAYLIGHT
BEGIN:STANDARD
TZOFFSETFROM:+0200
TZOFFSETTO:+0100
TZNAME:CET
DTSTART:20251026T010000
END:STANDARD
END:VTIMEZONE
BEGIN:VEVENT
DTSTART;TZID=Europe/Berlin:20240617T063000
DTEND;TZID=Europe/Berlin:20240617T063000
DTSTAMP:20260419T160032
CREATED:20240613T105707Z
LAST-MODIFIED:20240613T105824Z
UID:1555-1718605800-1718605800@ludgerus-norderney.de
SUMMARY:Frühschicht
DESCRIPTION:Gemeinsam den Tag beginnen mit einem Lied\, einem Impuls\, einem Gebet.\nAnschließend (ca. 6.50 Uhr) gibt es die Möglichkeit\, gemeinsam im Gemeinderaum zu frühstücken.\nDanach kann man gut zur Arbeit oder zur Schule gehen (oder einen Strandspaziergang machen).
URL:https://ludgerus-norderney.de/event/fruehschicht/
LOCATION:Pfarrkirche St. Ludgerus (Am Denkmal)\, Friedrichstraße (Am Denkmal)
END:VEVENT
END:VCALENDAR